BEGIN:VCALENDAR
VERSION:2.0
PRODID:-//Franklin Chapel AME Zion Church - ECPv6.15.20//NONSGML v1.0//EN
CALSCALE:GREGORIAN
METHOD:PUBLISH
X-ORIGINAL-URL:https://franklinchapel.org
X-WR-CALDESC:Events for Franklin Chapel AME Zion Church
REFRESH-INTERVAL;VALUE=DURATION:PT1H
X-Robots-Tag:noindex
X-PUBLISHED-TTL:PT1H
BEGIN:VTIMEZONE
TZID:UTC
BEGIN:STANDARD
TZOFFSETFROM:+0000
TZOFFSETTO:+0000
TZNAME:UTC
DTSTART:20230101T000000
END:STANDARD
END:VTIMEZONE
BEGIN:VEVENT
DTSTART;TZID=UTC:20241107T130000
DTEND;TZID=UTC:20241110T190000
DTSTAMP:20260423T190248
CREATED:20241003T213906Z
LAST-MODIFIED:20241107T182612Z
UID:1663-1730984400-1731265200@franklinchapel.org
SUMMARY:Central North Carolina Annual Conference 2024
DESCRIPTION:The Central North Carolina Annual Conference of the African Methodist Episcopal Zion (AME Zion) Church encompasses one of many districts\, within the Eastern North Carolina Episcopal District. This conference is dedicated to spiritual growth\, community service\, and the organization in line with the church’s mission. \n\n\n\nThe Eastern North Carolina District typically organizes events\, workshops\, and ministries aimed at fostering fellowship among churches\, supporting youth and educational initiatives\, and addressing community needs. They also focus on outreach programs and missions that align with the AME Zion Church’s values. \n\n\n\nIf you’re looking for specific details about upcoming events\, programs\, or initiatives in our district\, let us know!
URL:https://franklinchapel.org/event/central-north-carolina-annual-conference-2024/
LOCATION:Simon Temple AME Zion Church\, 5760 Yadkin Road\, Fayetteville\, NC\, 28303\, United States
ATTACH;FMTTYPE=image/jpeg:https://franklinchapel.org/wp-content/uploads/2024/10/458758224_833055272347499_2658521030352665206_n.jpg
END:VEVENT
BEGIN:VEVENT
DTSTART;TZID=UTC:20241106T120000
DTEND;TZID=UTC:20241106T130000
DTSTAMP:20260423T190248
CREATED:20241102T183722Z
LAST-MODIFIED:20241102T183726Z
UID:2104-1730894400-1730898000@franklinchapel.org
SUMMARY:Bible Study
DESCRIPTION:Noon Day & Evening Bible Study at Franklin Chapel AME Zion Church \n\n\n\nYou’re invited to join us for our Noon Day Bible Study every Wednesday at 12:00 PM and 7:00 PM. These sessions offer a rich time of learning and reflection\, designed to help you grow deeper in your faith and understanding of God’s Word. \n\n\n\n\nNoon Day Bible Study (12:00 PM): Perfect for those with flexible schedules or anyone seeking midday spiritual nourishment. Take a break from your day to dive into the scriptures and explore their relevance to your life.\n\n\n\nEvening Bible Study (7:00 PM): Can’t make it during the day? Join us in the evening as we gather for thoughtful discussions\, prayer\, and teaching that will inspire and equip you for the journey ahead.\n\n\n\n\nCome ready to ask questions\, share insights\, and engage in meaningful fellowship as we walk through the Bible together. Whether you’re a lifelong student of scripture or just beginning your journey\, there’s something for everyone.
URL:https://franklinchapel.org/event/bible-study-2/
LOCATION:Franklin Chapel AME Zion\, 1103 S Caledonia Road\, Laurinburg\, NC\, 28352\, United States
ATTACH;FMTTYPE=image/jpeg:https://franklinchapel.org/wp-content/uploads/2024/10/top-view-photo-of-man-reading-a-book-2574619-scaled.jpg
END:VEVENT
BEGIN:VEVENT
DTSTART;TZID=UTC:20241027T103000
DTEND;TZID=UTC:20241027T130000
DTSTAMP:20260423T190248
CREATED:20241024T072330Z
LAST-MODIFIED:20241103T070528Z
UID:1947-1730025000-1730034000@franklinchapel.org
SUMMARY:Morning Worship Service
DESCRIPTION:Morning Worship Service at Franklin Chapel AME Zion Church \n\n\n\nJoin us every Sunday at 10:30 AM for our Morning Worship Service\, a time of spiritual renewal\, powerful preaching\, and soul-stirring music. This is an opportunity to gather in the presence of God\, lift our voices in praise\, and receive a message that speaks to the heart. \n\n\n\nWhether you’re seeking a deeper connection with God\, encouragement for the week ahead\, or simply a place to belong\, you’ll find it here. Our welcoming church family invites you to experience the joy and peace that comes through worship and fellowship. Come as you are—everyone is welcome!
URL:https://franklinchapel.org/event/morning-worship-service/
LOCATION:Franklin Chapel AME Zion\, 1103 S Caledonia Road\, Laurinburg\, NC\, 28352\, United States
ATTACH;FMTTYPE=image/jpeg:https://franklinchapel.org/wp-content/uploads/2024/10/people-praying-during-mass-19130852-scaled.jpg
END:VEVENT
BEGIN:VEVENT
DTSTART;TZID=UTC:20241030T120000
DTEND;TZID=UTC:20241030T130000
DTSTAMP:20260423T190248
CREATED:20241024T073118Z
LAST-MODIFIED:20241102T183456Z
UID:1949-1730289600-1730293200@franklinchapel.org
SUMMARY:Bible Study
DESCRIPTION:Noon Day & Evening Bible Study at Franklin Chapel AME Zion Church \n\n\n\nYou’re invited to join us for our Noon Day Bible Study every Wednesday at 12:00 PM and 7:00 PM. These sessions offer a rich time of learning and reflection\, designed to help you grow deeper in your faith and understanding of God’s Word. \n\n\n\n\nNoon Day Bible Study (12:00 PM): Perfect for those with flexible schedules or anyone seeking midday spiritual nourishment. Take a break from your day to dive into the scriptures and explore their relevance to your life.\n\n\n\nEvening Bible Study (7:00 PM): Can’t make it during the day? Join us in the evening as we gather for thoughtful discussions\, prayer\, and teaching that will inspire and equip you for the journey ahead.\n\n\n\n\nCome ready to ask questions\, share insights\, and engage in meaningful fellowship as we walk through the Bible together. Whether you’re a lifelong student of scripture or just beginning your journey\, there’s something for everyone.
URL:https://franklinchapel.org/event/bible-study/
LOCATION:Franklin Chapel AME Zion\, 1103 S Caledonia Road\, Laurinburg\, NC\, 28352\, United States
ATTACH;FMTTYPE=image/jpeg:https://franklinchapel.org/wp-content/uploads/2024/10/top-view-photo-of-man-reading-a-book-2574619-scaled.jpg
END:VEVENT
BEGIN:VEVENT
DTSTART;TZID=UTC:20241027T103000
DTEND;TZID=UTC:20241027T130000
DTSTAMP:20260423T190248
CREATED:20241024T072330Z
LAST-MODIFIED:20241103T070528Z
UID:1947-1730025000-1730034000@franklinchapel.org
SUMMARY:Morning Worship Service
DESCRIPTION:Morning Worship Service at Franklin Chapel AME Zion Church \n\n\n\nJoin us every Sunday at 10:30 AM for our Morning Worship Service\, a time of spiritual renewal\, powerful preaching\, and soul-stirring music. This is an opportunity to gather in the presence of God\, lift our voices in praise\, and receive a message that speaks to the heart. \n\n\n\nWhether you’re seeking a deeper connection with God\, encouragement for the week ahead\, or simply a place to belong\, you’ll find it here. Our welcoming church family invites you to experience the joy and peace that comes through worship and fellowship. Come as you are—everyone is welcome!
URL:https://franklinchapel.org/event/morning-worship-service/
LOCATION:Franklin Chapel AME Zion\, 1103 S Caledonia Road\, Laurinburg\, NC\, 28352\, United States
ATTACH;FMTTYPE=image/jpeg:https://franklinchapel.org/wp-content/uploads/2024/10/people-praying-during-mass-19130852-scaled.jpg
END:VEVENT
BEGIN:VEVENT
DTSTART;TZID=UTC:20241027T103000
DTEND;TZID=UTC:20241027T120000
DTSTAMP:20260423T190248
CREATED:20211001T014505Z
LAST-MODIFIED:20241008T234336Z
UID:1247-1730025000-1730030400@franklinchapel.org
SUMMARY:Pastors Annual Appreciation 2024
DESCRIPTION:Rev. James Hayes’ Annual Appreciation event is a heartfelt gathering that celebrates his dedication and service to the community. Each year\, congregants and friends come together to express their gratitude for his leadership\, compassion\, and spiritual guidance. \n\n\n\nThe event typically features uplifting worship\, inspiring testimonials from members of the congregation\, and a shared meal that fosters fellowship and connection. Activities might include special music performances\, heartfelt speeches\, and the presentation of tokens of appreciation\, such as plaques or gifts that symbolize the impact he has made. \n\n\n\nRev. Hayes is known for his commitment to outreach and service\, often leading initiatives that support the local community. His ability to connect with people from all walks of life makes this appreciation event particularly special\, as many attendees share personal stories of how he has touched their lives. \n\n\n\nOverall\, the Annual Appreciation event serves not just as a celebration of Rev. Hayes’ contributions\, but also as a reminder of the power of community and faith in bringing people together. \n\n\n\nAdditional Information\n\n\n\nJoin us after the service for light refreshments and a chance to connect with fellow attendees. If you have any questions about the event\, feel free to reach out to us. We look forward to celebrating together!
URL:https://franklinchapel.org/event/pastors-annual-24/
LOCATION:Franklin Chapel AME Zion\, 1103 S Caledonia Road\, Laurinburg\, NC\, 28352\, United States
ATTACH;FMTTYPE=image/png:https://franklinchapel.org/wp-content/uploads/2021/09/Blue-Anniversary-invitation-instagram-post-3.png
END:VEVENT
BEGIN:VEVENT
DTSTART;TZID=UTC:20241026T100000
DTEND;TZID=UTC:20241026T140000
DTSTAMP:20260423T190248
CREATED:20241006T194013Z
LAST-MODIFIED:20241006T194016Z
UID:1792-1729936800-1729951200@franklinchapel.org
SUMMARY:Pink Weekend - Women’s Health
DESCRIPTION:
URL:https://franklinchapel.org/event/pink-weekend-womens-health/
LOCATION:Laurinburg District-AME Zion Church\, 1400 Pine Street\, Red Springs\, NC\, 28377\, United States
ATTACH;FMTTYPE=image/png:https://franklinchapel.org/wp-content/uploads/2024/10/255414689_4432083633571181_8735522102205440441_n.png
END:VEVENT
BEGIN:VEVENT
DTSTART;TZID=UTC:20241019T100000
DTEND;TZID=UTC:20241019T140000
DTSTAMP:20260423T190248
CREATED:20241006T193711Z
LAST-MODIFIED:20241006T193715Z
UID:1784-1729332000-1729346400@franklinchapel.org
SUMMARY:Jewels & Justice: Echoes of Equality
DESCRIPTION:
URL:https://franklinchapel.org/event/jewels-justice-echoes-of-equality/
LOCATION:Laurinburg District-AME Zion Church\, 1400 Pine Street\, Red Springs\, NC\, 28377\, United States
ATTACH;FMTTYPE=image/png:https://franklinchapel.org/wp-content/uploads/2024/10/255414689_4432083633571181_8735522102205440441_n.png
END:VEVENT
BEGIN:VEVENT
DTSTART;TZID=UTC:20241015T190000
DTEND;TZID=UTC:20241015T203000
DTSTAMP:20260423T190248
CREATED:20211001T000513Z
LAST-MODIFIED:20241006T235022Z
UID:1231-1729018800-1729024200@franklinchapel.org
SUMMARY:Homecoming REVIVAL! - Night Two
DESCRIPTION:The church revival at Franklin Chapel during homecoming is a heartfelt event that rejuvenates the spirit of the congregation and rekindles the community’s connection to faith. This revival typically spans several days\, featuring powerful sermons\, uplifting music\, and passionate worship that aim to inspire and encourage attendees. \n\n\n\nEach evening\, dynamic speakers share messages of hope\, healing\, and spiritual growth\, inviting everyone to reflect on their faith journeys. The revival includes heartfelt testimonies from congregation members\, sharing how their lives have been transformed through their connection to Franklin Chapel. \n\n\n\nMusic plays a vital role\, with choirs and worship bands leading congregational singing\, filling the space with joyful praise. Special activities for families and youth encourage participation and foster a sense of community. \n\n\n\nAs part of the homecoming celebration\, the revival serves as a reminder of Franklin Chapel’s rich history and its ongoing mission to spread love and support within the community. It’s a time for reflection\, renewal\, and recommitment\, drawing both longtime members and newcomers into a shared experience of faith and fellowship. \n\n\n\nAdditional Information\n\n\n\nSpeaker: Rev. Willie Miller
URL:https://franklinchapel.org/event/mother-and-daughter-tea-and-cookies/
LOCATION:Franklin Chapel AME Zion\, 1103 S Caledonia Road\, Laurinburg\, NC\, 28352\, United States
ATTACH;FMTTYPE=image/png:https://franklinchapel.org/wp-content/uploads/2021/09/Red-and-White-Modern-Prayer-Revival-Instagram-Post.png
END:VEVENT
BEGIN:VEVENT
DTSTART;TZID=UTC:20241014T190000
DTEND;TZID=UTC:20241014T203000
DTSTAMP:20260423T190248
CREATED:20210914T014411Z
LAST-MODIFIED:20241007T002408Z
UID:1059-1728932400-1728937800@franklinchapel.org
SUMMARY:Homecoming REVIVAL! -  Night One
DESCRIPTION:The church revival at Franklin Chapel during homecoming is a heartfelt event that rejuvenates the spirit of the congregation and rekindles the community’s connection to faith. This revival typically spans few days\, featuring powerful sermons\, uplifting music\, and passionate worship that aim to inspire and encourage attendees. \n\n\n\nEach evening\, dynamic speakers share messages of hope\, healing\, and spiritual growth\, inviting everyone to reflect on their faith journeys. The revival includes heartfelt testimonies from congregation members\, sharing how their lives have been transformed through their connection to Franklin Chapel. \n\n\n\nMusic plays a vital role\, with choirs and worship bands leading congregational singing\, filling the space with joyful praise. Special activities for families and youth encourage participation and foster a sense of community. \n\n\n\nAs part of the homecoming celebration\, the revival serves as a reminder of Franklin Chapel’s rich history and its ongoing mission to spread love and support within the community. It’s a time for reflection\, renewal\, and recommitment\, drawing both longtime members and newcomers into a shared experience of faith and fellowship. \n\n\n\nAdditional Information\n\n\n\nSpeaker: Rev. Nathanial Cox \, Grace AME Zion Church Raleigh North Carolina
URL:https://franklinchapel.org/event/church-family-picnic-and-play-at-the-park/
LOCATION:Franklin Chapel AME Zion\, 1103 S Caledonia Road\, Laurinburg\, NC\, 28352\, United States
ATTACH;FMTTYPE=image/png:https://franklinchapel.org/wp-content/uploads/2021/09/Red-and-White-Modern-Prayer-Revival-Instagram-Post.png
END:VEVENT
BEGIN:VEVENT
DTSTART;TZID=UTC:20241013T103000
DTEND;TZID=UTC:20241013T120000
DTSTAMP:20260423T190248
CREATED:20211001T014724Z
LAST-MODIFIED:20241006T233815Z
UID:1249-1728815400-1728820800@franklinchapel.org
SUMMARY:Homecoming Celebration - 149 Years!
DESCRIPTION:Church homecoming is a cherished tradition that brings together congregants\, past and present\, to celebrate their shared faith and community. It often features a vibrant mix of worship services\, fellowship activities\, and festive meals\, creating an atmosphere of joy and nostalgia. Members reminisce about memories\, reconnect with old friends\, and welcome newcomers with open arms. \n\n\n\nAdditional Information\n\n\n\nFor additional information regarding this year’s homecoming activities please contact your team caption.
URL:https://franklinchapel.org/event/community-clean-and-connect/
LOCATION:Franklin Chapel AME Zion\, 1103 S Caledonia Road\, Laurinburg\, NC\, 28352\, United States
ATTACH;FMTTYPE=image/png:https://franklinchapel.org/wp-content/uploads/2021/09/Black-and-Gold-50th-Anniversary-Card.png
END:VEVENT
END:VCALENDAR